BEGIN:VCALENDAR
VERSION:2.0
PRODID:-// - ECPv6.15.20//NONSGML v1.0//EN
CALSCALE:GREGORIAN
METHOD:PUBLISH
X-ORIGINAL-URL:http://iacny.org
X-WR-CALDESC:Events for 
REFRESH-INTERVAL;VALUE=DURATION:PT1H
X-Robots-Tag:noindex
X-PUBLISHED-TTL:PT1H
BEGIN:VTIMEZONE
TZID:UTC
BEGIN:STANDARD
TZOFFSETFROM:+0000
TZOFFSETTO:+0000
TZNAME:UTC
DTSTART:20250101T000000
END:STANDARD
END:VTIMEZONE
BEGIN:VEVENT
DTSTART;TZID=UTC:20260423T100000
DTEND;TZID=UTC:20260423T120000
DTSTAMP:20260419T121848
CREATED:20250905T184313Z
LAST-MODIFIED:20260416T134654Z
UID:2254-1776938400-1776945600@iacny.org
SUMMARY:IAC Membership Meeting
DESCRIPTION:
URL:http://iacny.org/event/iac-membership-meeting-6/
LOCATION:Online via Zoom
CATEGORIES:Committee Meeting
ORGANIZER;CN="Mary Knox":MAILTO:mary@iacny.org
END:VEVENT
BEGIN:VEVENT
DTSTART;TZID=UTC:20260423T120000
DTEND;TZID=UTC:20260423T140000
DTSTAMP:20260419T121848
CREATED:20260413T175730Z
LAST-MODIFIED:20260413T175813Z
UID:2836-1776945600-1776952800@iacny.org
SUMMARY:Eden II Programs - FREE WEBINAR - AGING WITH AUTISM & IDD: Health and Safety Considerations
DESCRIPTION:Date: April 23rd 12pm – 2pm \n  \nREGISTER HERE
URL:http://iacny.org/event/eden-ii-programs-free-webinar-aging-with-autism-idd-health-and-safety-considerations/
LOCATION:Online via Zoom
CATEGORIES:Training
ATTACH;FMTTYPE=application/pdf:http://iacny.org/wp-content/uploads/2026/04/E2-Aging-with-Autism-webinar-4-23-26.pdf
END:VEVENT
END:VCALENDAR