BEGIN:VCALENDAR
VERSION:2.0
PRODID:-// - ECPv6.15.20//NONSGML v1.0//EN
CALSCALE:GREGORIAN
METHOD:PUBLISH
X-ORIGINAL-URL:http://iacny.org
X-WR-CALDESC:Events for 
REFRESH-INTERVAL;VALUE=DURATION:PT1H
X-Robots-Tag:noindex
X-PUBLISHED-TTL:PT1H
BEGIN:VTIMEZONE
TZID:UTC
BEGIN:STANDARD
TZOFFSETFROM:+0000
TZOFFSETTO:+0000
TZNAME:UTC
DTSTART:20250101T000000
END:STANDARD
END:VTIMEZONE
BEGIN:VEVENT
DTSTART;TZID=UTC:20260430T100000
DTEND;TZID=UTC:20260430T140000
DTSTAMP:20260419T121919
CREATED:20260331T133248Z
LAST-MODIFIED:20260406T120126Z
UID:2799-1777543200-1777557600@iacny.org
SUMMARY:IN PERSON Train-the-Trainer: Empowering Everyday Leaders to See Beyond the PowerPoint
DESCRIPTION:Date: April 30th 10am – 2pm\nMembers $95 / Non-Members $125\nPresented by Kelly Nagy\nIN PERSON AT IACDesigned for frontline leaders\, clinical staff\, and interdisciplinary team members-but open to anyone interested in providing effective training-this dynamic workshop equips participants with the skills to confidently train others on what they know best. Whether you’re rolling out a new policy\, providing required training\, or implementing treatment plans\, this session will help you turn knowledge into impact. \n\nParticipants will:\n\nGain a practical overview of adult learning principles and training styles\nExplore how to tailor delivery for diverse learners\nCreate a mini training segment to practice real-time facilitation\nReceive live feedback in a supportive\, hands-on environment\n\nWhy agencies love it: This training builds employee competence\, boosts communication skills\, enhances future training results\, and empowers staff to lead from wherever they sit. It’s not just theory—it’s Training in Action.\n*please bring or send in advance a few slides from one of your trainings to present if you would like to receive real-time feedback.\n\nREGISTER HERE\n\nIAC Cancellation Policy: We are unable to refund Registrations for Single day classes canceled with less than 24 hours notice and Registrations for Multi-day classes canceled with less than 48 hours notice. No- shows will be charged the full registration fee.
URL:http://iacny.org/event/in-person-train-the-trainer-empowering-everyday-leaders-to-see-beyond-the-powerpoint-2/
LOCATION:IAC\, 145 West 30th St 12th Floor\, New York\, NY\, 10001\, United States
CATEGORIES:Training
END:VEVENT
BEGIN:VEVENT
DTSTART;TZID=UTC:20260430T143000
DTEND;TZID=UTC:20260430T163000
DTSTAMP:20260419T121919
CREATED:20260401T181349Z
LAST-MODIFIED:20260401T181349Z
UID:2812-1777559400-1777566600@iacny.org
SUMMARY:Residential Services Committee Meeting
DESCRIPTION:
URL:http://iacny.org/event/residential-services-committee-meeting-2/
LOCATION:Online via Zoom
CATEGORIES:Committee Meeting
ORGANIZER;CN="Joe Medler":MAILTO:chris@iacny.org
END:VEVENT
END:VCALENDAR