BEGIN:VCALENDAR
VERSION:2.0
PRODID:-// - ECPv6.15.20//NONSGML v1.0//EN
CALSCALE:GREGORIAN
METHOD:PUBLISH
X-ORIGINAL-URL:http://iacny.org
X-WR-CALDESC:Events for 
REFRESH-INTERVAL;VALUE=DURATION:PT1H
X-Robots-Tag:noindex
X-PUBLISHED-TTL:PT1H
BEGIN:VTIMEZONE
TZID:UTC
BEGIN:STANDARD
TZOFFSETFROM:+0000
TZOFFSETTO:+0000
TZNAME:UTC
DTSTART:20250101T000000
END:STANDARD
END:VTIMEZONE
BEGIN:VEVENT
DTSTART;TZID=UTC:20260518T090000
DTEND;TZID=UTC:20260518T180000
DTSTAMP:20260419T135019
CREATED:20260326T150058Z
LAST-MODIFIED:20260408T134213Z
UID:2789-1779094800-1779127200@iacny.org
SUMMARY:IN PERSON SCIP-R Training May 2026
DESCRIPTION:Date: May 18th & 19th 9am – 6pm \nMembers $375 / Non-Members $400 \nIN PERSON AT IAC \nParticipants will learn safe & effective approaches to working with individuals who exhibit aggressive behaviors. Participants will also learn appropriate calming techniques\, preventive strategies to de-escalate adverse situations & proper techniques for physical intervention when all else fails. This training covers CORE techniques. Staff seeking training must work in OPWDD-certified settings. \n  \nREGISTER HERE \n  \nIAC Cancellation Policy: We are unable to refund Registrations for Single day classes canceled with less than 24 hours notice and Registrations for Multi-day classes canceled with less than 48 hours notice.  No- shows will be charged the full registration fee. 
URL:http://iacny.org/event/in-person-full-scip-r-training-may-2026/
LOCATION:IAC\, 145 West 30th St 12th Floor\, New York\, NY\, 10001\, United States
CATEGORIES:Training
END:VEVENT
BEGIN:VEVENT
DTSTART;TZID=UTC:20260518T130000
DTEND;TZID=UTC:20260518T143000
DTSTAMP:20260419T135019
CREATED:20260317T182344Z
LAST-MODIFIED:20260317T182344Z
UID:2779-1779109200-1779114600@iacny.org
SUMMARY:Clinic-IPSIDD Committee Meeting
DESCRIPTION:
URL:http://iacny.org/event/clinic-ipsidd-committee-meeting-13/
LOCATION:Online via Zoom
CATEGORIES:Committee Meeting
ORGANIZER;CN="Mary Knox":MAILTO:mary@iacny.org
END:VEVENT
BEGIN:VEVENT
DTSTART;TZID=UTC:20260518T150000
DTEND;TZID=UTC:20260518T160000
DTSTAMP:20260419T135019
CREATED:20250919T142836Z
LAST-MODIFIED:20250919T142836Z
UID:2372-1779116400-1779120000@iacny.org
SUMMARY:Transition Alliance - Steering Committee Meeting
DESCRIPTION:
URL:http://iacny.org/event/transition-alliance-steering-committee-meeting-7/
LOCATION:Online via Zoom
CATEGORIES:Committee Meeting
ORGANIZER;CN="Mary Knox":MAILTO:mary@iacny.org
END:VEVENT
END:VCALENDAR