BEGIN:VCALENDAR
VERSION:2.0
PRODID:-// - ECPv6.15.20//NONSGML v1.0//EN
CALSCALE:GREGORIAN
METHOD:PUBLISH
X-ORIGINAL-URL:http://iacny.org
X-WR-CALDESC:Events for 
REFRESH-INTERVAL;VALUE=DURATION:PT1H
X-Robots-Tag:noindex
X-PUBLISHED-TTL:PT1H
BEGIN:VTIMEZONE
TZID:UTC
BEGIN:STANDARD
TZOFFSETFROM:+0000
TZOFFSETTO:+0000
TZNAME:UTC
DTSTART:20250101T000000
END:STANDARD
END:VTIMEZONE
BEGIN:VEVENT
DTSTART;TZID=UTC:20260521T093000
DTEND;TZID=UTC:20260521T150000
DTSTAMP:20260419T132308
CREATED:20260414T154910Z
LAST-MODIFIED:20260414T154910Z
UID:2844-1779355800-1779375600@iacny.org
SUMMARY:IN PERSON AMAP Training May 2026
DESCRIPTION:Dates: May 21st\, 28th & 29th from 9:30am-3pm \nMembers $175/ Non Members $200 \nThis course certifies trainees to administer medications in OPWDD-funded residential and day programs. This course follows the OPWDD approved AMAP curriculum and includes: responsibilities of AMAP certification\, common medications\, side effects\, rights and responsibilities of administering medication measurement of vital signs\, and common abbreviations used in the medical field. \nREGISTER HERE \n  \nIAC Cancellation Policy: We are unable to refund Registrations for Single day classes canceled with less than 24 hours notice and Registrations for Multi-day classes canceled with less than 48 hours notice.  No- shows will be charged the full registration fee. 
URL:http://iacny.org/event/in-person-amap-training-may-2026/
LOCATION:IAC\, 145 West 30th St 12th Floor\, New York\, NY\, 10001\, United States
CATEGORIES:Training
END:VEVENT
BEGIN:VEVENT
DTSTART;TZID=UTC:20260521T100000
DTEND;TZID=UTC:20260521T120000
DTSTAMP:20260419T132308
CREATED:20250905T184356Z
LAST-MODIFIED:20250905T184356Z
UID:2256-1779357600-1779364800@iacny.org
SUMMARY:IAC Membership Meeting
DESCRIPTION:
URL:http://iacny.org/event/iac-membership-meeting-7/
LOCATION:Online via Zoom
CATEGORIES:Committee Meeting
ORGANIZER;CN="Mary Knox":MAILTO:mary@iacny.org
END:VEVENT
END:VCALENDAR