BEGIN:VCALENDAR
VERSION:2.0
PRODID:-// - ECPv6.15.20//NONSGML v1.0//EN
CALSCALE:GREGORIAN
METHOD:PUBLISH
X-ORIGINAL-URL:https://iacny.org
X-WR-CALDESC:Events for 
REFRESH-INTERVAL;VALUE=DURATION:PT1H
X-Robots-Tag:noindex
X-PUBLISHED-TTL:PT1H
BEGIN:VTIMEZONE
TZID:UTC
BEGIN:STANDARD
TZOFFSETFROM:+0000
TZOFFSETTO:+0000
TZNAME:UTC
DTSTART:20220101T000000
END:STANDARD
END:VTIMEZONE
BEGIN:VEVENT
DTSTART;TZID=UTC:20231214T100000
DTEND;TZID=UTC:20231214T120000
DTSTAMP:20260419T122329
CREATED:20230824T004742Z
LAST-MODIFIED:20230824T004742Z
UID:647-1702548000-1702555200@iacny.org
SUMMARY:Membership Committee Meeting
DESCRIPTION:
URL:https://iacny.org/event/membership-committee-meeting-4/
LOCATION:Online via Zoom
CATEGORIES:Committee Meeting
END:VEVENT
BEGIN:VEVENT
DTSTART;TZID=UTC:20231214T100000
DTEND;TZID=UTC:20231214T120000
DTSTAMP:20260419T122329
CREATED:20231214T201955Z
LAST-MODIFIED:20231214T201955Z
UID:820-1702548000-1702555200@iacny.org
SUMMARY:Residential Committee Meeting
DESCRIPTION:
URL:https://iacny.org/event/residential-committee-meeting-4/
LOCATION:Online via Zoom
CATEGORIES:Committee Meeting
ORGANIZER;CN="Richard Bosch":MAILTO:richard@iacny.org
END:VEVENT
BEGIN:VEVENT
DTSTART;TZID=UTC:20231214T100000
DTEND;TZID=UTC:20231214T160000
DTSTAMP:20260419T122329
CREATED:20231004T194534Z
LAST-MODIFIED:20231004T202437Z
UID:722-1702548000-1702569600@iacny.org
SUMMARY:The Power of Optimism
DESCRIPTION:Members $140 Non Members $190 \nThis class is in person at IAC \nPresented by Katherine Gould\, The Visions Center for Creative Management \nTo work in the field of disabilities effectively you must have a frame of optimism. Its very important that you believe in the mission\, vision\, and values and that you can inspire others to have a can do attitude. Sometimes it’s hard to be optimistic when you are under pressure and even harder to pat yourself on the back. But being positive is the golden nugget for success. This class will teach you how to remain positive even through the hard times.
URL:https://iacny.org/event/the-power-of-optimism/
LOCATION:IAC\, 145 West 30th St 12th Floor\, New York\, NY\, 10001\, United States
CATEGORIES:Training
END:VEVENT
END:VCALENDAR