BEGIN:VCALENDAR
VERSION:2.0
PRODID:-// - ECPv6.15.20//NONSGML v1.0//EN
CALSCALE:GREGORIAN
METHOD:PUBLISH
X-ORIGINAL-URL:https://iacny.org
X-WR-CALDESC:Events for 
REFRESH-INTERVAL;VALUE=DURATION:PT1H
X-Robots-Tag:noindex
X-PUBLISHED-TTL:PT1H
BEGIN:VTIMEZONE
TZID:UTC
BEGIN:STANDARD
TZOFFSETFROM:+0000
TZOFFSETTO:+0000
TZNAME:UTC
DTSTART:20230101T000000
END:STANDARD
END:VTIMEZONE
BEGIN:VEVENT
DTSTART;TZID=UTC:20240119T120000
DTEND;TZID=UTC:20240119T130000
DTSTAMP:20260421T085147
CREATED:20231218T182318Z
LAST-MODIFIED:20231218T182318Z
UID:832-1705665600-1705669200@iacny.org
SUMMARY:ONLINE ACTIVE SHOOTER SITE PREPAREDNESS TRAINING
DESCRIPTION:In today’s work environment\, staff need to prepare themselves for the possibility of a hostile intruder the same way they would prepare themselves for a fire. Unlike that scenario\, where everyone evacuates\, an active shooter scenario is much more complex. Basic protocols like Run\, Hide\, Fight are not enough. Where do you run? Where do you hide? What do you fight with? Join us as we help put staff at ease and explore various options that your organization can pursue to give staff a better sense of what role they can play in saving their lives and the lives of others. \nTraining Objectives: \no A general understanding of active shooter scenarios \no Knowledge of three response plans and their applicability \no The importance of floor plans \no Staff responses for an active shooter scenario \no Police response for an active shooter scenario \no Education on site security measures and site-specific plans \nThis training is intended for anyone as it affects everyone-from Administrators\, Directors\, Supervisors\, Managers\, Team Leaders\, and more.
URL:https://iacny.org/event/online-active-shooter-site-preparedness-training/
LOCATION:Online via Zoom
CATEGORIES:Training
END:VEVENT
END:VCALENDAR