BEGIN:VCALENDAR
VERSION:2.0
PRODID:-// - ECPv6.15.20//NONSGML v1.0//EN
CALSCALE:GREGORIAN
METHOD:PUBLISH
X-ORIGINAL-URL:https://iacny.org
X-WR-CALDESC:Events for 
REFRESH-INTERVAL;VALUE=DURATION:PT1H
X-Robots-Tag:noindex
X-PUBLISHED-TTL:PT1H
BEGIN:VTIMEZONE
TZID:UTC
BEGIN:STANDARD
TZOFFSETFROM:+0000
TZOFFSETTO:+0000
TZNAME:UTC
DTSTART:20240101T000000
END:STANDARD
END:VTIMEZONE
BEGIN:VEVENT
DTSTART;TZID=UTC:20250206T100000
DTEND;TZID=UTC:20250206T113000
DTSTAMP:20260421T102750
CREATED:20250203T200640Z
LAST-MODIFIED:20250203T200640Z
UID:1882-1738836000-1738841400@iacny.org
SUMMARY:ADAPT Community Network FREE EVENT-Transition to Kindergarten: Moving from Preschool to Kindergarten for Students with Disabilities
DESCRIPTION:Register: https://us06web.zoom.us/webinar/register/WN_4cfo1cBAQZKazzzS3QpVfw#/registration
URL:https://iacny.org/event/adapt-community-network-free-event-transition-to-kindergarten-moving-from-preschool-to-kindergarten-for-students-with-disabilities/
LOCATION:Online via Zoom
ATTACH;FMTTYPE=application/pdf:https://iacny.org/wp-content/uploads/2025/02/Transition-to-kindergarten-Three-Languages.pdf
END:VEVENT
END:VCALENDAR