BEGIN:VCALENDAR
VERSION:2.0
PRODID:-// - ECPv6.15.20//NONSGML v1.0//EN
CALSCALE:GREGORIAN
METHOD:PUBLISH
X-ORIGINAL-URL:https://iacny.org
X-WR-CALDESC:Events for 
REFRESH-INTERVAL;VALUE=DURATION:PT1H
X-Robots-Tag:noindex
X-PUBLISHED-TTL:PT1H
BEGIN:VTIMEZONE
TZID:UTC
BEGIN:STANDARD
TZOFFSETFROM:+0000
TZOFFSETTO:+0000
TZNAME:UTC
DTSTART:20240101T000000
END:STANDARD
END:VTIMEZONE
BEGIN:VEVENT
DTSTART;TZID=UTC:20250227T100000
DTEND;TZID=UTC:20250227T120000
DTSTAMP:20260419T143235
CREATED:20250114T154947Z
LAST-MODIFIED:20250203T223618Z
UID:1802-1740650400-1740657600@iacny.org
SUMMARY:ONLINE Time Management Training
DESCRIPTION:The last several years have presented us with challenges that sap away more of our time than ever before. Staff are required to take on more tasks as staff recruitment and retention remain problematic. In this webinar\, staff will learn various concepts that they can utilize and pass on to other staff members to effectively handle more responsibilities by eliminating “time wasters” that will reduce stress and make you perceived by others as the staff who is able to get the results your organization needs. \n  \nTraining/Workshop Objectives: \no To present some ideas that can help management streamline many tasks and responsibilities \no Ideas that can be presented to staff to improve productivity and effective communication \no Various time management tips \no The importance of conscientiousness \nCancellation Policy: Registrations for Single day classes canceled with less than 24 hours notice will not be refunded.  Registrations for Multi-day classes canceled with less than 48 hours notice will not be refunded.  No shows will be charged the full registration fee. \nRegister Here: https://lp.constantcontactpages.com/ev/reg/s2x9ukk
URL:https://iacny.org/event/online-time-management-training/
LOCATION:Online via Zoom
CATEGORIES:Training
END:VEVENT
BEGIN:VEVENT
DTSTART;TZID=UTC:20250227T100000
DTEND;TZID=UTC:20250227T120000
DTSTAMP:20260419T143235
CREATED:20250124T193749Z
LAST-MODIFIED:20250127T155106Z
UID:1850-1740650400-1740657600@iacny.org
SUMMARY:Fiscal Management Committee
DESCRIPTION:
URL:https://iacny.org/event/fiscal-management-committee-2/
LOCATION:Online via Zoom
CATEGORIES:Committee Meeting
ORGANIZER;CN="Mary Knox":MAILTO:mary@iacny.org
END:VEVENT
BEGIN:VEVENT
DTSTART;TZID=UTC:20250227T100000
DTEND;TZID=UTC:20250227T233000
DTSTAMP:20260419T143235
CREATED:20250213T171611Z
LAST-MODIFIED:20250213T171611Z
UID:1897-1740650400-1740699000@iacny.org
SUMMARY:ADAPT COMMUNITY NETWORK FREE WEBINAR : Auditory Processing Disorder: Setting Up your Child for Success
DESCRIPTION:ADAPT Community Network is offering a free webinar on an unusual topic “Auditory Processing Disorder: Setting Up your Child for Success” on Thursday\, February 27th 10 am – 11:30 am. Dr Christine Russo-Meyer\, who is a clinical and educational psychologist\, will be the speaker.  Spanish and Mandarin translation will be provided. Registration is required. To register click on https://us06web.zoom.us/webinar/register/WN_n3O_zmtxRDWxYt88SdfS3A
URL:https://iacny.org/event/adapt-community-network-free-webinar-auditory-processing-disorder-setting-up-your-child-for-success/
ATTACH;FMTTYPE=application/pdf:https://iacny.org/wp-content/uploads/2025/02/Auditory-Processing-Treatment-3-languages.pdf
END:VEVENT
END:VCALENDAR