BEGIN:VCALENDAR
VERSION:2.0
PRODID:-// - ECPv6.15.20//NONSGML v1.0//EN
CALSCALE:GREGORIAN
METHOD:PUBLISH
X-ORIGINAL-URL:https://iacny.org
X-WR-CALDESC:Events for 
REFRESH-INTERVAL;VALUE=DURATION:PT1H
X-Robots-Tag:noindex
X-PUBLISHED-TTL:PT1H
BEGIN:VTIMEZONE
TZID:UTC
BEGIN:STANDARD
TZOFFSETFROM:+0000
TZOFFSETTO:+0000
TZNAME:UTC
DTSTART:20240101T000000
END:STANDARD
END:VTIMEZONE
BEGIN:VEVENT
DTSTART;TZID=UTC:20250313T100000
DTEND;TZID=UTC:20250313T113000
DTSTAMP:20260419T123142
CREATED:20250310T221512Z
LAST-MODIFIED:20250310T221512Z
UID:1932-1741860000-1741865400@iacny.org
SUMMARY:ADAPT COMMUNITY NETWORK- FREE WEBINAR-A Roadmap for Equity in Autism Diagnosis and Care
DESCRIPTION:ADAPT Community Network is offering a free webinar “A Roadmap for Equity in Autism Diagnosis and Care” this Thursday\, March 13th 10 am – 11:30 am. Spanish and Mandarin translation will be provided. Registration is required. To register click on https://us06web.zoom.us/webinar/register/WN_nRT0ITWeSv2oTaof1kIvXw  or scan the QR code on the attached flyer.
URL:https://iacny.org/event/adapt-community-network-free-webinar-a-roadmap-for-equity-in-autism-diagnosis-and-care/
ATTACH;FMTTYPE=application/pdf:https://iacny.org/wp-content/uploads/2025/03/A-Roadmap-for-Equity-in-Autism-Diagnosis-Care-3-languages-1.pdf
END:VEVENT
END:VCALENDAR