BEGIN:VCALENDAR
VERSION:2.0
PRODID:-// - ECPv6.15.20//NONSGML v1.0//EN
CALSCALE:GREGORIAN
METHOD:PUBLISH
X-ORIGINAL-URL:https://iacny.org
X-WR-CALDESC:Events for 
REFRESH-INTERVAL;VALUE=DURATION:PT1H
X-Robots-Tag:noindex
X-PUBLISHED-TTL:PT1H
BEGIN:VTIMEZONE
TZID:UTC
BEGIN:STANDARD
TZOFFSETFROM:+0000
TZOFFSETTO:+0000
TZNAME:UTC
DTSTART:20240101T000000
END:STANDARD
END:VTIMEZONE
BEGIN:VEVENT
DTSTART;TZID=UTC:20250327T090000
DTEND;TZID=UTC:20250327T180000
DTSTAMP:20260419T121331
CREATED:20250121T150121Z
LAST-MODIFIED:20250121T150201Z
UID:1815-1743066000-1743098400@iacny.org
SUMMARY:IN PERSON SCIP-R Training March 2025
DESCRIPTION:Date: March 27 & 28th 9AM -6PM\nMembers $375 / Non Members $400\n\nParticipants will learn safe & effective approaches to working with individuals who exhibit aggressive behaviors. Participants will also learn appropriate calming techniques\, preventive strategies to de-escalate adverse situations & proper techniques for physical intervention when all else fails.  This training covers CORE techniques.  Staff seeking training must work in OPWDD-certified settings.\n\n\n\n\nCancellation Policy: Registrations for Single day classes canceled with less than 24 hours notice will not be refunded.  Registrations for Multi-day classes canceled with less than 48 hours notice will not be refunded.  No shows will be charged the full registration fee. \nRegister Here:https://lp.constantcontactpages.com/ev/reg/7345drs
URL:https://iacny.org/event/in-person-scip-r-training-march-2025/
LOCATION:IAC\, 145 West 30th St 12th Floor\, New York\, NY\, 10001\, United States
CATEGORIES:Training
END:VEVENT
BEGIN:VEVENT
DTSTART;TZID=UTC:20250327T100000
DTEND;TZID=UTC:20250327T113000
DTSTAMP:20260419T121331
CREATED:20250324T155501Z
LAST-MODIFIED:20250324T155501Z
UID:1954-1743069600-1743075000@iacny.org
SUMMARY:FREE WEBINAR-ADAPT COMMUNITY NETWORK-"What Families Can Do While Waiting for Early Childhood Services"
DESCRIPTION:This virtual webinar will address the following: what parents can do to support their young children while they wait for early childhood services to begin. Come learn how parents can support their young children while they wait for early childhood services to begin. \nRegister at: https://us06web.zoom.us/webinar/register/WN_sPaBbySPRLmfnXSTrNy5PA#/registration
URL:https://iacny.org/event/free-webinar-adapt-community-network-what-families-can-do-while-waiting-for-early-childhood-services/
LOCATION:Online via Zoom
ATTACH;FMTTYPE=application/pdf:https://iacny.org/wp-content/uploads/2025/03/What-Families-Can-do-while-waiting-for-Early-Childhood-Services-3-languages.pdf
END:VEVENT
BEGIN:VEVENT
DTSTART;TZID=UTC:20250327T100000
DTEND;TZID=UTC:20250327T120000
DTSTAMP:20260419T121331
CREATED:20250124T193944Z
LAST-MODIFIED:20250318T152617Z
UID:1852-1743069600-1743076800@iacny.org
SUMMARY:Fiscal Management Committee
DESCRIPTION:
URL:https://iacny.org/event/fiscal-management-committee-3/
LOCATION:Online via Zoom
CATEGORIES:Committee Meeting
ORGANIZER;CN="Mary Knox":MAILTO:mary@iacny.org
END:VEVENT
END:VCALENDAR