BEGIN:VCALENDAR
VERSION:2.0
PRODID:-// - ECPv6.15.20//NONSGML v1.0//EN
CALSCALE:GREGORIAN
METHOD:PUBLISH
X-ORIGINAL-URL:https://iacny.org
X-WR-CALDESC:Events for 
REFRESH-INTERVAL;VALUE=DURATION:PT1H
X-Robots-Tag:noindex
X-PUBLISHED-TTL:PT1H
BEGIN:VTIMEZONE
TZID:UTC
BEGIN:STANDARD
TZOFFSETFROM:+0000
TZOFFSETTO:+0000
TZNAME:UTC
DTSTART:20240101T000000
END:STANDARD
END:VTIMEZONE
BEGIN:VEVENT
DTSTART;TZID=UTC:20251110T130000
DTEND;TZID=UTC:20251110T143000
DTSTAMP:20260420T120032
CREATED:20250915T190311Z
LAST-MODIFIED:20250915T190311Z
UID:2280-1762779600-1762785000@iacny.org
SUMMARY:Clinic-IPSIDD Committee Meeting
DESCRIPTION:
URL:https://iacny.org/event/clinic-ipsidd-committee-meeting-10/
LOCATION:Online via Zoom
CATEGORIES:Committee Meeting
ORGANIZER;CN="Mary Knox":MAILTO:mary@iacny.org
END:VEVENT
END:VCALENDAR