BEGIN:VCALENDAR
VERSION:2.0
PRODID:-// - ECPv6.15.20//NONSGML v1.0//EN
CALSCALE:GREGORIAN
METHOD:PUBLISH
X-ORIGINAL-URL:https://iacny.org
X-WR-CALDESC:Events for 
REFRESH-INTERVAL;VALUE=DURATION:PT1H
X-Robots-Tag:noindex
X-PUBLISHED-TTL:PT1H
BEGIN:VTIMEZONE
TZID:UTC
BEGIN:STANDARD
TZOFFSETFROM:+0000
TZOFFSETTO:+0000
TZNAME:UTC
DTSTART:20240101T000000
END:STANDARD
END:VTIMEZONE
BEGIN:VEVENT
DTSTART;TZID=UTC:20251126T100000
DTEND;TZID=UTC:20251126T113000
DTSTAMP:20260420T120116
CREATED:20251120T202103Z
LAST-MODIFIED:20251120T202103Z
UID:2575-1764151200-1764156600@iacny.org
SUMMARY:Free Webinar-ADAPT COMMUNITY NETWORK-Supporting Emotional Regulation in Neurodiverse Children: Considerations and Strategies for Setting Children up for Success
DESCRIPTION:November 26th 10am-11:30am \n  \nEmotional regulation involves the ability to manage and respond to emotional experiences in a healthy and appropriate way. Having adequate emotional regulation skills allows children to cope with everyday demands and challenges\, navigate social interactions\, and maintain mental well-being. For many children emotional regulation skills are acquired and learned in various ways. For children\, however\, who demonstrate neurodiversity\, differential methods may be useful and/or necessary to support the acquisition\, demonstration\, and generalization of these skills. This webinar will highlight key considerations\, and offer specific strategies\, to develop emotional regulation skills in neurodiverse children. \n  \nREGISTER HERE
URL:https://iacny.org/event/free-webinar-adapt-community-network-supporting-emotional-regulation-in-neurodiverse-children-considerations-and-strategies-for-setting-children-up-for-success/
ATTACH;FMTTYPE=application/pdf:https://iacny.org/wp-content/uploads/2025/11/Supporting_Emotional_Regulation_in_Neurodiverse__English.pdf
END:VEVENT
BEGIN:VEVENT
DTSTART;TZID=UTC:20251126T163000
DTEND;TZID=UTC:20251126T193000
DTSTAMP:20260420T120116
CREATED:20251009T132026Z
LAST-MODIFIED:20251121T162426Z
UID:2451-1764174600-1764185400@iacny.org
SUMMARY:ONLINE Incident Investigation Certification November Training 2025
DESCRIPTION:Date: November 26th  December 3rd\, 4th\, 9th\, 10th\, 11th\, 15th 4:30pm – 7:30pm \nTest date:  December 16th 8:30am-4:30pm \nMembers $450 / Non-Members $550 \nOnline via Zoom \nAre you a nonprofit professional ready to learn and take on investigations at your organization? This training will be an immersive virtual training series that provides specialized investigative skills to new investigators. \nREGISTER HERE \nIAC Cancellation Policy: We are unable to refund Registrations for Single day classes canceled with less than 24 hours notice and Registrations for Multi-day classes canceled with less than 48 hours notice.  No- shows will be charged the full registration fee. 
URL:https://iacny.org/event/online-incident-investigation-certification-november-training-2025/
LOCATION:Online via Zoom
CATEGORIES:Training
END:VEVENT
END:VCALENDAR