BEGIN:VCALENDAR
VERSION:2.0
PRODID:-// - ECPv6.15.20//NONSGML v1.0//EN
CALSCALE:GREGORIAN
METHOD:PUBLISH
X-ORIGINAL-URL:https://iacny.org
X-WR-CALDESC:Events for 
REFRESH-INTERVAL;VALUE=DURATION:PT1H
X-Robots-Tag:noindex
X-PUBLISHED-TTL:PT1H
BEGIN:VTIMEZONE
TZID:UTC
BEGIN:STANDARD
TZOFFSETFROM:+0000
TZOFFSETTO:+0000
TZNAME:UTC
DTSTART:20240101T000000
END:STANDARD
END:VTIMEZONE
BEGIN:VEVENT
DTSTART;TZID=UTC:20251210T100000
DTEND;TZID=UTC:20251210T113000
DTSTAMP:20260420T102248
CREATED:20251111T150401Z
LAST-MODIFIED:20251111T150401Z
UID:2538-1765360800-1765366200@iacny.org
SUMMARY:Training Directors Committee Meeting
DESCRIPTION:
URL:https://iacny.org/event/training-directors-committee-meeting-9/
LOCATION:Online via Zoom
CATEGORIES:Committee Meeting
ORGANIZER;CN="Mary Knox":MAILTO:mary@iacny.org
END:VEVENT
BEGIN:VEVENT
DTSTART;TZID=UTC:20251210T140000
DTEND;TZID=UTC:20251210T160000
DTSTAMP:20260420T102248
CREATED:20251113T162452Z
LAST-MODIFIED:20251113T162452Z
UID:2545-1765375200-1765382400@iacny.org
SUMMARY:IT Committee Meeting
DESCRIPTION:
URL:https://iacny.org/event/it-committee-meeting-4/
LOCATION:Online via Zoom
CATEGORIES:Committee Meeting
ORGANIZER;CN="Mary Knox":MAILTO:mary@iacny.org
END:VEVENT
END:VCALENDAR