BEGIN:VCALENDAR
VERSION:2.0
PRODID:-// - ECPv6.15.20//NONSGML v1.0//EN
CALSCALE:GREGORIAN
METHOD:PUBLISH
X-ORIGINAL-URL:https://iacny.org
X-WR-CALDESC:Events for 
REFRESH-INTERVAL;VALUE=DURATION:PT1H
X-Robots-Tag:noindex
X-PUBLISHED-TTL:PT1H
BEGIN:VTIMEZONE
TZID:UTC
BEGIN:STANDARD
TZOFFSETFROM:+0000
TZOFFSETTO:+0000
TZNAME:UTC
DTSTART:20240101T000000
END:STANDARD
END:VTIMEZONE
BEGIN:VEVENT
DTSTART;TZID=UTC:20251218T100000
DTEND;TZID=UTC:20251218T113000
DTSTAMP:20260420T102249
CREATED:20251215T152703Z
LAST-MODIFIED:20251215T154506Z
UID:2610-1766052000-1766057400@iacny.org
SUMMARY:FREE WEBINAR-Adapt Community Network- Communication at Home and In the Community
DESCRIPTION:Thursday\, December 18th\, 2025\, 10:00 am – 11:30 am \nDESCRIPTION: Learn strategies that support families to bring speech and language activities into everyday routines and interactions at home. Incorporating language development work into the naturalistic setting creates opportunity for higher rates of success in reaching communication goals. This webinar will empower parents\, caregivers\, and professionals with concrete ways to contribute to the growth and development of communication skills. \nWHO SHOULD ATTEND: Parents\, family members\, caregivers and professionals who want to enhance the lives of children\, teenagers & young adults. We welcome anyone who strives to achieve the same goals. \nLANGUAGE: English (Spanish and Mandarin Interpretation Provided) \nREGISTRATION IS REQUIRED By web: https://us06web.zoom.us/webinar/register/WN_CtKMvE-ISe–MG2drI4DJA#/registration \nBy Email: familyconnect@adaptcommunitynetwork.org \nBy Phone: (718) 436-7979 Ext.5139
URL:https://iacny.org/event/free-webinar-adapt-community-network-communication-at-home-and-in-the-community/
ATTACH;FMTTYPE=application/pdf:https://iacny.org/wp-content/uploads/2025/12/Communication_at_Home_and_in_the_Community__English_.pdf
END:VEVENT
BEGIN:VEVENT
DTSTART;TZID=UTC:20251218T130000
DTEND;TZID=UTC:20251218T150000
DTSTAMP:20260420T102249
CREATED:20251211T200705Z
LAST-MODIFIED:20251211T200705Z
UID:2607-1766062800-1766070000@iacny.org
SUMMARY:FI Committee and Broker Best Practices Workgroup
DESCRIPTION:
URL:https://iacny.org/event/fi-committee-and-broker-best-practices-workgroup/
LOCATION:Online via Zoom
CATEGORIES:Committee Meeting
ORGANIZER;CN="Mary Knox":MAILTO:mary@iacny.org
END:VEVENT
END:VCALENDAR