BEGIN:VCALENDAR
VERSION:2.0
PRODID:-// - ECPv6.15.20//NONSGML v1.0//EN
CALSCALE:GREGORIAN
METHOD:PUBLISH
X-ORIGINAL-URL:https://iacny.org
X-WR-CALDESC:Events for 
REFRESH-INTERVAL;VALUE=DURATION:PT1H
X-Robots-Tag:noindex
X-PUBLISHED-TTL:PT1H
BEGIN:VTIMEZONE
TZID:UTC
BEGIN:STANDARD
TZOFFSETFROM:+0000
TZOFFSETTO:+0000
TZNAME:UTC
DTSTART:20250101T000000
END:STANDARD
END:VTIMEZONE
BEGIN:VEVENT
DTSTART;TZID=UTC:20260306T100000
DTEND;TZID=UTC:20260306T120000
DTSTAMP:20260420T115758
CREATED:20260203T173250Z
LAST-MODIFIED:20260203T173250Z
UID:2712-1772791200-1772798400@iacny.org
SUMMARY:2026 Five Borough Virtual Legislative Town Hall
DESCRIPTION:
URL:https://iacny.org/event/2026-five-borough-virtual-legislative-town-hall/
ATTACH;FMTTYPE=application/pdf:https://iacny.org/wp-content/uploads/2026/02/Updated-2026-Save-The-Date-3-2.pdf
END:VEVENT
END:VCALENDAR