BEGIN:VCALENDAR
VERSION:2.0
PRODID:-// - ECPv6.15.20//NONSGML v1.0//EN
CALSCALE:GREGORIAN
METHOD:PUBLISH
X-ORIGINAL-URL:https://iacny.org
X-WR-CALDESC:Events for 
REFRESH-INTERVAL;VALUE=DURATION:PT1H
X-Robots-Tag:noindex
X-PUBLISHED-TTL:PT1H
BEGIN:VTIMEZONE
TZID:UTC
BEGIN:STANDARD
TZOFFSETFROM:+0000
TZOFFSETTO:+0000
TZNAME:UTC
DTSTART:20250101T000000
END:STANDARD
END:VTIMEZONE
BEGIN:VEVENT
DTSTART;TZID=UTC:20260319T100000
DTEND;TZID=UTC:20260319T113000
DTSTAMP:20260420T120026
CREATED:20260312T164524Z
LAST-MODIFIED:20260312T164806Z
UID:2765-1773914400-1773919800@iacny.org
SUMMARY:ADAPT - FAMILY SUPPORT SERVICES: WHAT ARE THEY AND WEBINAR  HOW DO YOU GET THEM?
DESCRIPTION:Date: March 19th 10am – 11:30am \nJoin us for an informative webinar focused on reviewing the essential Family Support Services offered\nby The Office of People with Disabilities (OPWDD). This session will cover the latest changes\, requirements\, and updates to\nkey programs\, including Family Reimbursement\, Home Modification\, Housing Assistance and more. Participants will learn\nhow to navigate the application process\, and tips for maximizing success. Whether you’re a self-advocate\, parent\, guardian\,\nor caregiver\, this webinar will equip you with the knowledge and tools you need to effectively access and utilize these vital\nresources for your family. Don’t miss this opportunity to empower yourself and ensure you’re making the most of the\nsupport available! \nWHO SHOULD ATTEND: Parents\, family members\, caregivers and professionals who want to enhance the lives of\nchildren\, teenagers & young adults. We welcome anyone who strives to achieve the same goals. \nLANGUAGE: English (Spanish and Mandarin Interpretation Provided)\nZoom’s closed caption feature can also translate speech into your\npreferred language. \n  \nREGISTRATION IS REQUIRED\nBy web: Click Here\nBy Email: familyconnect@adaptcommunitynetwork.org\nBy Phone: (718) 436-7979 Ext.5139 \n 
URL:https://iacny.org/event/adapt-family-support-services-what-are-they-and-webinar-how-do-you-get-them-2/
LOCATION:Online via Zoom
CATEGORIES:Training
ATTACH;FMTTYPE=application/pdf:https://iacny.org/wp-content/uploads/2026/03/Family-Support-Services-what-are-they-Three-Languages.pdf
END:VEVENT
BEGIN:VEVENT
DTSTART;TZID=UTC:20260319T100000
DTEND;TZID=UTC:20260319T120000
DTSTAMP:20260420T120026
CREATED:20250919T141930Z
LAST-MODIFIED:20250919T141930Z
UID:2354-1773914400-1773921600@iacny.org
SUMMARY:Membership Meeting
DESCRIPTION:
URL:https://iacny.org/event/membership-meeting-5/
LOCATION:Online via Zoom
CATEGORIES:Committee Meeting
ORGANIZER;CN="Mary Knox":MAILTO:mary@iacny.org
END:VEVENT
END:VCALENDAR