BEGIN:VCALENDAR
VERSION:2.0
PRODID:-// - ECPv6.15.20//NONSGML v1.0//EN
CALSCALE:GREGORIAN
METHOD:PUBLISH
X-ORIGINAL-URL:https://iacny.org
X-WR-CALDESC:Events for 
REFRESH-INTERVAL;VALUE=DURATION:PT1H
X-Robots-Tag:noindex
X-PUBLISHED-TTL:PT1H
BEGIN:VTIMEZONE
TZID:UTC
BEGIN:STANDARD
TZOFFSETFROM:+0000
TZOFFSETTO:+0000
TZNAME:UTC
DTSTART:20220101T000000
END:STANDARD
END:VTIMEZONE
BEGIN:VEVENT
DTSTART;TZID=UTC:20230801T100000
DTEND;TZID=UTC:20230801T130000
DTSTAMP:20260420T073214
CREATED:20230727T200847Z
LAST-MODIFIED:20230727T201332Z
UID:524-1690884000-1690894800@iacny.org
SUMMARY:How to Manage Up and Manage Down-ONLINE
DESCRIPTION:Members $70/Non Members $95\nMid-managers have to supervise and build their team to ensure quality outcomes for people supported. They “manage down\,” meaning they have to set the stage\, communicate a vision\, and ensure accountability. At the same time\, mid-managers must “manage up\,” meaning they need to know how to work effectively with their supervisor\, other managers\, and leaders at their agency. To accomplish both of these feats\, a mid-manager needs to know how to work effectively with people. We will discuss the importance of emotional intelligence for managers. We will also focus on how to communicate effectively\, even when the topic is difficult. \npresented by Katherine Gould-The VISIONS Center for Creative Management \nRegister: http://events.constantcontact.com/register/event?llr=fqwwifpab&oeidk=a07ejvksr5u292f2132
URL:https://iacny.org/event/how-to-manage-up-and-manage-down-online/
LOCATION:Online via Zoom
CATEGORIES:Training
END:VEVENT
END:VCALENDAR